BEGIN:VCALENDAR
VERSION:2.0
PRODID:-//www.usher1f.org//NONSGML kigkonsult.se iCalcreator 2.30.10//
CALSCALE:GREGORIAN
METHOD:PUBLISH
UID:c927f30c-aaf1-4569-b9b6-814650b74917
X-WR-CALDESC:
X-WR-RELCALID:7c7dea8b73054e734c96ae5869972c91
X-WR-TIMEZONE:America/New_York
BEGIN:VTIMEZONE
TZID:America/New_York
BEGIN:STANDARD
TZNAME:EST
DTSTART:20251102T020000
TZOFFSETFROM:-0400
TZOFFSETTO:-0500
RDATE:20261101T020000
RDATE:20271107T020000
END:STANDARD
BEGIN:DAYLIGHT
TZNAME:EDT
DTSTART:20260308T020000
TZOFFSETFROM:-0500
TZOFFSETTO:-0400
RDATE:20270314T020000
END:DAYLIGHT
END:VTIMEZONE
BEGIN:VEVENT
UID:d540fa99-892f-4a7b-bd2e-1d1e306dbd2c
DTSTAMP:20260425T141537Z
DESCRIPTION:
DTSTART;TZID=America/New_York:20260608T060000
DTEND;TZID=America/New_York:20260608T060001
LOCATION:
SUMMARY:Golf\, Tennis and Pickleball Outing\, Featuring Cards and Mahjong
END:VEVENT
END:VCALENDAR
