BEGIN:VCALENDAR
VERSION:2.0
PRODID:-//www.usher1f.org//NONSGML kigkonsult.se iCalcreator 2.30.10//
CALSCALE:GREGORIAN
METHOD:PUBLISH
UID:b8cea73f-8c3a-4e88-8bdf-29c60c9d2ad8
X-WR-CALDESC:
X-WR-RELCALID:998fc26c215b5f3694cc54e3232d5ee3
X-WR-TIMEZONE:America/New_York
BEGIN:VTIMEZONE
TZID:America/New_York
BEGIN:STANDARD
TZNAME:EST
DTSTART:20251102T020000
TZOFFSETFROM:-0400
TZOFFSETTO:-0500
RDATE:20261101T020000
END:STANDARD
BEGIN:DAYLIGHT
TZNAME:EDT
DTSTART:20260308T020000
TZOFFSETFROM:-0500
TZOFFSETTO:-0400
RDATE:20270314T020000
END:DAYLIGHT
END:VTIMEZONE
BEGIN:VEVENT
UID:c0717b81-9660-4123-be13-7f2c49385462
DTSTAMP:20260425T153817Z
DESCRIPTION:
DTSTART;TZID=America/New_York:20260401T060000
DTEND;TZID=America/New_York:20260430T060001
LOCATION:
SUMMARY:Donate to Win a Dream Getaway
END:VEVENT
END:VCALENDAR
